BEGIN:VCALENDAR
VERSION:2.0
PRODID:-//Tukios.com/
BEGIN:VEVENT
UID:c5ed8712-0666-4d89-9711-c1f1f361c3b2@www.stephensonnelsonfh.com
DTSTAMP:20260422T191849Z
DTSTART:20260424T150000Z
DTEND:20260424T160000Z
SUMMARY:Memorial Service
DESCRIPTION:
URL:https://www.stephensonnelsonfh.com/obituaries/martha-spung
LOCATION: 595 E. Main Street  Avon Park FL 33825
GEO:27.5962733;-81.4905828
END:VEVENT
END:VCALENDAR