BEGIN:VCALENDAR
VERSION:2.0
PRODID:-//Tukios.com/
BEGIN:VEVENT
UID:c0a21773-d179-4cb9-b76f-91ecdbf7fa1f@www.stephensonnelsonfh.com
DTSTAMP:20260420T190135Z
DTSTART:20260424T150000Z
DTEND:20260424T170000Z
SUMMARY:Visitation
DESCRIPTION:
URL:https://www.stephensonnelsonfh.com/obituaries/gail-warren
LOCATION: 4001 Sebring Pkwy  Sebring FL 33870
GEO:27.5144509;-81.4902571
END:VEVENT
END:VCALENDAR